BEGIN:VCALENDAR
VERSION:2.0
PRODID:-//Deutsche Gesellschaft für Analytische Psychologie - ECPv6.3.5//NONSGML v1.0//EN
CALSCALE:GREGORIAN
METHOD:PUBLISH
X-WR-CALNAME:Deutsche Gesellschaft für Analytische Psychologie
X-ORIGINAL-URL:https://cgjung.de
X-WR-CALDESC:Veranstaltungen für Deutsche Gesellschaft für Analytische Psychologie
REFRESH-INTERVAL;VALUE=DURATION:PT1H
X-Robots-Tag:noindex
X-PUBLISHED-TTL:PT1H
BEGIN:VTIMEZONE
TZID:Europe/Berlin
BEGIN:DAYLIGHT
TZOFFSETFROM:+0100
TZOFFSETTO:+0200
TZNAME:CEST
DTSTART:20240331T010000
END:DAYLIGHT
BEGIN:STANDARD
TZOFFSETFROM:+0200
TZOFFSETTO:+0100
TZNAME:CET
DTSTART:20241027T010000
END:STANDARD
END:VTIMEZONE
BEGIN:VEVENT
DTSTART;VALUE=DATE:20240307
DTEND;VALUE=DATE:20240311
DTSTAMP:20260425T223616
CREATED:20230406T132518Z
LAST-MODIFIED:20231218T143303Z
UID:4741-1709769600-1710115199@cgjung.de
SUMMARY:DGAP Frühjahrstagung 2024
DESCRIPTION:Thema:\nTherapeutische Stilfragen – zur lebendigen Verbindung von ‘persönlicher Gleichung’\, Beziehung und Methode \nDatum und Ort:\n07.03. – 10.03.2024 im Jugendkulturzentrum Pumpe Berlin\n/// Programm öffnen\n/// Anmeldeformular öffnen
URL:https://cgjung.de/event/save-the-date-dgap-fruehjahrstagung-2024/
END:VEVENT
BEGIN:VEVENT
DTSTART;VALUE=DATE:20240315
DTEND;VALUE=DATE:20240317
DTSTAMP:20260425T223616
CREATED:20240125T094721Z
LAST-MODIFIED:20240125T094802Z
UID:5103-1710460800-1710633599@cgjung.de
SUMMARY:„Endstation? – Depression zwischen Zerstörung und Sehnsucht“
DESCRIPTION:Perspektiven der internationalen Psychoanalyse \n„Endstation? – Depression zwischen Zerstörung und Sehnsucht“\nÖffentliche Fortbildungsveranstaltung der Akademie für Psychoanalyse und Psychotherapie München e.V. vom 15. – 16. März 2024 \nIm depressiven Stillstand ist auch die latente Hoffnung enthalten\, ein Scheitern\, eine Zerstörung aufhalten zu können. Diese Spannung zwischen Sehnsucht und Zerstörung betrifft nicht nur individuelle Patientinnen und Patienten\, sondern unsere Gesellschaft(en). In politischen und ökologischen Krisenzeiten\, in einer Zeit zunehmender Digitalisierung und Entpersönlichung ist es schwer\, dieses Spannungsfeld auch in der analytischen Arbeit mit depressiven Patientinnen und Patientinnen auszuhalten. Deshalb haben wir in unsere Fortbildungstagung erstmals auch eine analytische Großgruppe integriert\, um darüber in den Austausch zu kommen.\nEndstation? Bitte alle einsteigen… \nDetails und Informationen zur Anmeldung finden Sie im beigefügten Flyer. \n 
URL:https://cgjung.de/event/endstation-depression-zwischen-zerstoerung-und-sehnsucht/
END:VEVENT
END:VCALENDAR