BEGIN:VCALENDAR
VERSION:2.0
PRODID:-//Deutsche Gesellschaft für Analytische Psychologie - ECPv6.3.5//NONSGML v1.0//EN
CALSCALE:GREGORIAN
METHOD:PUBLISH
X-ORIGINAL-URL:https://cgjung.de
X-WR-CALDESC:Veranstaltungen für Deutsche Gesellschaft für Analytische Psychologie
REFRESH-INTERVAL;VALUE=DURATION:PT1H
X-Robots-Tag:noindex
X-PUBLISHED-TTL:PT1H
BEGIN:VTIMEZONE
TZID:Europe/Berlin
BEGIN:DAYLIGHT
TZOFFSETFROM:+0100
TZOFFSETTO:+0200
TZNAME:CEST
DTSTART:20230326T010000
END:DAYLIGHT
BEGIN:STANDARD
TZOFFSETFROM:+0200
TZOFFSETTO:+0100
TZNAME:CET
DTSTART:20231029T010000
END:STANDARD
END:VTIMEZONE
BEGIN:VEVENT
DTSTART;VALUE=DATE:20231111
DTEND;VALUE=DATE:20231112
DTSTAMP:20260426T063349
CREATED:20230727T112129Z
LAST-MODIFIED:20230727T112258Z
UID:4814-1699660800-1699747199@cgjung.de
SUMMARY:Jahrestagung des Ethikvereins „Ethik im Praxisalltag - Umgang mit Alter\, Krankheit und Schwangerschaft“
DESCRIPTION:Datum: Samstag\, 11. November 2023\nOrt: Hotel Dietrich-Bonhoeffer-Haus in Berlin\nAnmeldung: bitte bis spätestens zum 29. September 2023 nur per Mail an info@ethikverein.de\nFlyer: hier klicken
URL:https://cgjung.de/event/jahrestagung-des-ethikvereins-ethik-im-praxisalltag-umgang-mit-alter-krankheit-und-schwangerschaft/
END:VEVENT
END:VCALENDAR