BEGIN:VCALENDAR
VERSION:2.0
PRODID:-//Deutsche Gesellschaft für Analytische Psychologie - ECPv6.3.5//NONSGML v1.0//EN
CALSCALE:GREGORIAN
METHOD:PUBLISH
X-WR-CALNAME:Deutsche Gesellschaft für Analytische Psychologie
X-ORIGINAL-URL:https://cgjung.de
X-WR-CALDESC:Veranstaltungen für Deutsche Gesellschaft für Analytische Psychologie
REFRESH-INTERVAL;VALUE=DURATION:PT1H
X-Robots-Tag:noindex
X-PUBLISHED-TTL:PT1H
BEGIN:VTIMEZONE
TZID:Europe/Berlin
BEGIN:DAYLIGHT
TZOFFSETFROM:+0100
TZOFFSETTO:+0200
TZNAME:CEST
DTSTART:20240331T010000
END:DAYLIGHT
BEGIN:STANDARD
TZOFFSETFROM:+0200
TZOFFSETTO:+0100
TZNAME:CET
DTSTART:20241027T010000
END:STANDARD
END:VTIMEZONE
BEGIN:VEVENT
DTSTART;TZID=Europe/Berlin:20240621T180000
DTEND;TZID=Europe/Berlin:20240623T130000
DTSTAMP:20260425T182029
CREATED:20240125T101220Z
LAST-MODIFIED:20240125T101220Z
UID:5107-1718992800-1719147600@cgjung.de
SUMMARY:Erstes Lausitzer Sagen-Symposium
DESCRIPTION:Thema: Krabat – zwischen Verstickung und Entwicklung. Eine Annäherung an den psychologischen Gehalt der Sage \nDatum und Uhrzeit: 21.06. – 23.06.2024 von 18 bis 13 Uhr\nOrt: im “Haus der 1000 Teiche” Wartha/Stroza\nFlyer: hier klicken 
URL:https://cgjung.de/event/erstes-lausitzer-sagen-symposium/
END:VEVENT
END:VCALENDAR